BEGIN:VCALENDAR
VERSION:2.0
PRODID:-//Strelitz Dragons - ECPv6.15.11//NONSGML v1.0//EN
CALSCALE:GREGORIAN
METHOD:PUBLISH
X-WR-CALNAME:Strelitz Dragons
X-ORIGINAL-URL:https://strelitzdragons.de
X-WR-CALDESC:Veranstaltungen für Strelitz Dragons
REFRESH-INTERVAL;VALUE=DURATION:PT1H
X-Robots-Tag:noindex
X-PUBLISHED-TTL:PT1H
BEGIN:VTIMEZONE
TZID:Europe/Berlin
BEGIN:DAYLIGHT
TZOFFSETFROM:+0100
TZOFFSETTO:+0200
TZNAME:CEST
DTSTART:20240331T010000
END:DAYLIGHT
BEGIN:STANDARD
TZOFFSETFROM:+0200
TZOFFSETTO:+0100
TZNAME:CET
DTSTART:20241027T010000
END:STANDARD
BEGIN:DAYLIGHT
TZOFFSETFROM:+0100
TZOFFSETTO:+0200
TZNAME:CEST
DTSTART:20250330T010000
END:DAYLIGHT
BEGIN:STANDARD
TZOFFSETFROM:+0200
TZOFFSETTO:+0100
TZNAME:CET
DTSTART:20251026T010000
END:STANDARD
BEGIN:DAYLIGHT
TZOFFSETFROM:+0100
TZOFFSETTO:+0200
TZNAME:CEST
DTSTART:20260329T010000
END:DAYLIGHT
BEGIN:STANDARD
TZOFFSETFROM:+0200
TZOFFSETTO:+0100
TZNAME:CET
DTSTART:20261025T010000
END:STANDARD
END:VTIMEZONE
BEGIN:VEVENT
DTSTART;VALUE=DATE:20250920
DTEND;VALUE=DATE:20250921
DTSTAMP:20260421T183726
CREATED:20250309T143201Z
LAST-MODIFIED:20250309T143233Z
UID:265-1758326400-1758412799@strelitzdragons.de
SUMMARY:21. Drachenbootfest Neustrelitz
DESCRIPTION:
URL:https://strelitzdragons.de/event/21-drachenbootfest-neustrelitz/
LOCATION:Glammi\, Adolf-Friedrich-Straße 20\, Neustrelitz\, Mecklenburg-Vorpommern\, 17235\, Germany
CATEGORIES:Strelitz Dragons
ORGANIZER;CN="Strelitz Dragons":MAILTO:kontakt@strelitzdragons.de
END:VEVENT
BEGIN:VEVENT
DTSTART;VALUE=DATE:20250719
DTEND;VALUE=DATE:20250720
DTSTAMP:20260421T183726
CREATED:20250309T131202Z
LAST-MODIFIED:20250309T143355Z
UID:252-1752883200-1752969599@strelitzdragons.de
SUMMARY:18. Neubrandenburger Wassersportspiele
DESCRIPTION:
URL:https://strelitzdragons.de/event/wassersportspiele-neubrandenburg-2025/
LOCATION:Reitbahnsee Neubrandenburg\, Reitbahnweg 90\, Neubrandenburg\, Mecklenburg-Vorpommern\, 17034\, Germany
CATEGORIES:Strelitz Dragons
END:VEVENT
BEGIN:VEVENT
DTSTART;VALUE=DATE:20250620
DTEND;VALUE=DATE:20250623
DTSTAMP:20260421T183726
CREATED:20250309T130458Z
LAST-MODIFIED:20250309T142437Z
UID:248-1750377600-1750636799@strelitzdragons.de
SUMMARY:60. Havelfest
DESCRIPTION:
URL:https://strelitzdragons.de/event/havelfest2025/
LOCATION:Potsdam\, Johanniskirchpl. 1\, Brandenburg an der Havel\, Bandenburg\, 14770\, Germany
CATEGORIES:Strelitz Dragons
END:VEVENT
END:VCALENDAR